Workbook

Sheet Cover
A1: Turkish Customs Trade Report
A2: Structured HS-code level import/export statistics
B4: HS Code(s): | C4: 390769000000
B5: Product Description (TR): | C5: Poli(etilen tereftalat); ilk şekillerde, viskozitesi < 78 ml/g
B6: Product Description (EN): | C6: Poly(ethylene terephthalate) (PET), in primary forms, having a viscosity number of less than 78 ml/g
B7: Period: | C7: 2025
B8: Directions Covered: | C8: Export
B9: Countries Covered: | C9: 59
B10: Report Generated: | C10: 2026-09-11 13:18
B11: Currencies: | C11: USD, EUR, TRY (as reported by source; no FX conversion applied)
B13: Note: Source data is currently available at annual granularity. The Year-over-Year tab will become Month-over-Month once monthly-level source data is available, with no change to report structure.
B17: Sheets: Data (raw filtered records) | Country Summary | Top 10 | Top 10 by Volume | Year-over-Year

Sheet Data
A1: Direction | B1: Year | C1: HS Code | D1: Product Description | E1: Country (TR) | F1: Country | G1: Unit | H1: Quantity 1 | I1: Quantity 2 | J1: USD | K1: EUR | L1: TRY
A2: Export | B2: 2025 | C2: 390769000000 | D2: Poli(etilen tereftalat); ilk şekillerde, viskozitesi < 78 ml/g | E2: ABD | F2: USA | G2: KG | H2: 537941 | I2: 0 | J2: 652163 | K2: 578104 | L2: 25252756
A3: Export | B3: 2025 | C3: 390769000000 | D3: Poli(etilen tereftalat); ilk şekillerde, viskozitesi < 78 ml/g | E3: Almanya | F3: Germany | G3: KG | H3: 39007441 | I3: 0 | J3: 44856617 | K3: 40027226 | L3: 1745460859
A4: Export | B4: 2025 | C4: 390769000000 | D4: Poli(etilen tereftalat); ilk şekillerde, viskozitesi < 78 ml/g | E4: Arnavutluk | F4: Albania | G4: KG | H4: 5 | I4: 0 | J4: 5 | K4: 4 | L4: 199
A5: Export | B5: 2025 | C5: 390769000000 | D5: Poli(etilen tereftalat); ilk şekillerde, viskozitesi < 78 ml/g | E5: Avusturya | F5: Austria | G5: KG | H5: 1197855 | I5: 0 | J5: 1510008 | K5: 1343421 | L5: 58711169
A6: Export | B6: 2025 | C6: 390769000000 | D6: Poli(etilen tereftalat); ilk şekillerde, viskozitesi < 78 ml/g | E6: Azerbaycan | F6: Azerbaijan | G6: KG | H6: 2340 | I6: 0 | J6: 14311 | K6: 12395 | L6: 583846
A7: Export | B7: 2025 | C7: 390769000000 | D7: Poli(etilen tereftalat); ilk şekillerde, viskozitesi < 78 ml/g | E7: BAE | F7: UAE | G7: KG | H7: 200004 | I7: 0 | J7: 249002 | K7: 217335 | L7: 9807482
A8: Export | B8: 2025 | C8: 390769000000 | D8: Poli(etilen tereftalat); ilk şekillerde, viskozitesi < 78 ml/g | E8: Bahreyn | F8: Bahrain | G8: KG | H8: 3 | J8: 1 | K8: 1 | L8: 48
A9: Export | B9: 2025 | C9: 390769000000 | D9: Poli(etilen tereftalat); ilk şekillerde, viskozitesi < 78 ml/g | E9: Belarus | F9: Belarus | G9: KG | H9: 73600 | I9: 0 | J9: 258814 | K9: 228198 | L9: 10280869
A10: Export | B10: 2025 | C10: 390769000000 | D10: Poli(etilen tereftalat); ilk şekillerde, viskozitesi < 78 ml/g | E10: Belçika | F10: Belgium | G10: KG | H10: 5426999 | I10: 0 | J10: 6764774 | K10: 6015731 | L10: 265102271
A11: Export | B11: 2025 | C11: 390769000000 | D11: Poli(etilen tereftalat); ilk şekillerde, viskozitesi < 78 ml/g | E11: Birleşik Krallık | F11: United Kingdom | G11: KG | H11: 2986539 | I11: 0 | J11: 3584168 | K11: 3101097 | L11: 146351810
A12: Export | B12: 2025 | C12: 390769000000 | D12: Poli(etilen tereftalat); ilk şekillerde, viskozitesi < 78 ml/g | E12: Brezilya | F12: Brazil | G12: KG | H12: 80005 | I12: 0 | J12: 62251 | K12: 59773 | L12: 2226840
A13: Export | B13: 2025 | C13: 390769000000 | D13: Poli(etilen tereftalat); ilk şekillerde, viskozitesi < 78 ml/g | E13: Bulgaristan | F13: Bulgaria | G13: KG | H13: 653950 | I13: 0 | J13: 598402 | K13: 528085 | L13: 23555766
A14: Export | B14: 2025 | C14: 390769000000 | D14: Poli(etilen tereftalat); ilk şekillerde, viskozitesi < 78 ml/g | E14: Cezayir | F14: Algeria | G14: KG | H14: 509082 | I14: 0 | J14: 444412 | K14: 379041 | L14: 18984966
A15: Export | B15: 2025 | C15: 390769000000 | D15: Poli(etilen tereftalat); ilk şekillerde, viskozitesi < 78 ml/g | E15: Danimarka | F15: Denmark | G15: KG | H15: 47 | J15: 47 | K15: 47 | L15: 2282
A16: Export | B16: 2025 | C16: 390769000000 | D16: Poli(etilen tereftalat); ilk şekillerde, viskozitesi < 78 ml/g | E16: Endonezya | F16: Indonesia | G16: KG | H16: 11 | J16: 10 | K16: 9 | L16: 419
A17: Export | B17: 2025 | C17: 390769000000 | D17: Poli(etilen tereftalat); ilk şekillerde, viskozitesi < 78 ml/g | E17: Fas | F17: Morocco | G17: KG | H17: 141617 | I17: 0 | J17: 135652 | K17: 119295 | L17: 5164485
A18: Export | B18: 2025 | C18: 390769000000 | D18: Poli(etilen tereftalat); ilk şekillerde, viskozitesi < 78 ml/g | E18: Finlandiya | F18: Finland | G18: KG | H18: 20000 | I18: 0 | J18: 50405 | K18: 43000 | L18: 2121910
A19: Export | B19: 2025 | C19: 390769000000 | D19: Poli(etilen tereftalat); ilk şekillerde, viskozitesi < 78 ml/g | E19: Fransa | F19: France | G19: KG | H19: 2459669 | I19: 0 | J19: 2885675 | K19: 2559734 | L19: 113862188
A20: Export | B20: 2025 | C20: 390769000000 | D20: Poli(etilen tereftalat); ilk şekillerde, viskozitesi < 78 ml/g | E20: Güney Kore | F20: South Korea | G20: KG | H20: 14 | J20: 14 | K20: 12 | L20: 557
A21: Export | B21: 2025 | C21: 390769000000 | D21: Poli(etilen tereftalat); ilk şekillerde, viskozitesi < 78 ml/g | E21: Hindistan | F21: India | G21: KG | H21: 967540 | I21: 0 | J21: 384791 | K21: 336587 | L21: 15539563
A22: Export | B22: 2025 | C22: 390769000000 | D22: Poli(etilen tereftalat); ilk şekillerde, viskozitesi < 78 ml/g | E22: Hollanda | F22: Netherlands | G22: KG | H22: 1318918 | I22: 0 | J22: 1470633 | K22: 1297449 | L22: 58700948
A23: Export | B23: 2025 | C23: 390769000000 | D23: Poli(etilen tereftalat); ilk şekillerde, viskozitesi < 78 ml/g | E23: Honduras | F23: Honduras | G23: KG | H23: 88000 | I23: 0 | J23: 77880 | K23: 66094 | L23: 3336464
A24: Export | B24: 2025 | C24: 390769000000 | D24: Poli(etilen tereftalat); ilk şekillerde, viskozitesi < 78 ml/g | E24: Hırvatistan | F24: Croatia | G24: KG | H24: 49000 | I24: 0 | J24: 93066 | K24: 83573 | L24: 3584335
A25: Export | B25: 2025 | C25: 390769000000 | D25: Poli(etilen tereftalat); ilk şekillerde, viskozitesi < 78 ml/g | E25: Kanada | F25: Canada | G25: KG | H25: 5 | J25: 35 | K25: 30 | L25: 1465
A26: Export | B26: 2025 | C26: 390769000000 | D26: Poli(etilen tereftalat); ilk şekillerde, viskozitesi < 78 ml/g | E26: Kolombiya | F26: Colombia | G26: KG | H26: 1718 | I26: 0 | J26: 1918 | K26: 1818 | L26: 70380
A27: Export | B27: 2025 | C27: 390769000000 | D27: Poli(etilen tereftalat); ilk şekillerde, viskozitesi < 78 ml/g | E27: Kosova | F27: Kosovo | G27: KG | H27: 1452 | I27: 0 | J27: 1646 | K27: 1415 | L27: 69042
A28: Export | B28: 2025 | C28: 390769000000 | D28: Poli(etilen tereftalat); ilk şekillerde, viskozitesi < 78 ml/g | E28: Kuveyt | F28: Kuwait | G28: KG | H28: 27 | I28: 0 | J28: 40 | K28: 33 | L28: 1675
A29: Export | B29: 2025 | C29: 390769000000 | D29: Poli(etilen tereftalat); ilk şekillerde, viskozitesi < 78 ml/g | E29: Kuzey Makedonya | F29: North Macedonia | G29: KG | H29: 198728 | I29: 0 | J29: 254351 | K29: 226861 | L29: 9919071
A30: Export | B30: 2025 | C30: 390769000000 | D30: Poli(etilen tereftalat); ilk şekillerde, viskozitesi < 78 ml/g | E30: Letonya | F30: Latvia | G30: KG | H30: 910044 | I30: 0 | J30: 1094265 | K30: 954339 | L30: 42903299
A31: Export | B31: 2025 | C31: 390769000000 | D31: Poli(etilen tereftalat); ilk şekillerde, viskozitesi < 78 ml/g | E31: Litvanya | F31: Lithuania | G31: KG | H31: 64125 | I31: 0 | J31: 71313 | K31: 65949 | L31: 2652641
A32: Export | B32: 2025 | C32: 390769000000 | D32: Poli(etilen tereftalat); ilk şekillerde, viskozitesi < 78 ml/g | E32: Lüksemburg | F32: Luxembourg | G32: KG | H32: 2028 | I32: 0 | J32: 1958 | K32: 1678 | L32: 81639
A33: Export | B33: 2025 | C33: 390769000000 | D33: Poli(etilen tereftalat); ilk şekillerde, viskozitesi < 78 ml/g | E33: Malezya | F33: Malaysia | G33: KG | H33: 1 | J33: 4 | K33: 3 | L33: 145
A34: Export | B34: 2025 | C34: 390769000000 | D34: Poli(etilen tereftalat); ilk şekillerde, viskozitesi < 78 ml/g | E34: Meksika | F34: Mexico | G34: KG | H34: 7 | J34: 28 | K34: 24 | L34: 1163
A35: Export | B35: 2025 | C35: 390769000000 | D35: Poli(etilen tereftalat); ilk şekillerde, viskozitesi < 78 ml/g | E35: Mısır | F35: Egypt | G35: KG | H35: 829783 | I35: 0 | J35: 775817 | K35: 681067 | L35: 30630532
A36: Export | B36: 2025 | C36: 390769000000 | D36: Poli(etilen tereftalat); ilk şekillerde, viskozitesi < 78 ml/g | E36: Pakistan | F36: Pakistan | G36: KG | H36: 107500 | I36: 0 | J36: 348665 | K36: 319313 | L36: 13428136
A37: Export | B37: 2025 | C37: 390769000000 | D37: Poli(etilen tereftalat); ilk şekillerde, viskozitesi < 78 ml/g | E37: Polonya | F37: Poland | G37: KG | H37: 17380 | I37: 0 | J37: 35814 | K37: 31072 | L37: 1441467
A38: Export | B38: 2025 | C38: 390769000000 | D38: Poli(etilen tereftalat); ilk şekillerde, viskozitesi < 78 ml/g | E38: Portekiz | F38: Portugal | G38: KG | H38: 427504 | I38: 0 | J38: 498962 | K38: 447529 | L38: 19257147
A39: Export | B39: 2025 | C39: 390769000000 | D39: Poli(etilen tereftalat); ilk şekillerde, viskozitesi < 78 ml/g | E39: Romanya | F39: Romania | G39: KG | H39: 6062892 | I39: 0 | J39: 6645777 | K39: 5935978 | L39: 258371965
A40: Export | B40: 2025 | C40: 390769000000 | D40: Poli(etilen tereftalat); ilk şekillerde, viskozitesi < 78 ml/g | E40: Rusya Federasyonu | F40: Russia | G40: KG | H40: 1024538 | I40: 0 | J40: 1296146 | K40: 1139375 | L40: 50620536
...

Sheet Country Summary
A1: Country Summary
A2: Poli(etilen tereftalat); ilk şekillerde, viskozitesi < 78 ml/g | HS 390769000000 | Export | 2025-2025
A4: Country | B4: Export Qty (KG) | C4: Export USD | D4: Export EUR | E4: Export TRY | F4: Export Unit Price (USD/KG) | G4: Export Unit Price (EUR/KG) | H4: Export Unit Price (TRY/KG)
A5: Germany | B5: =SUMIFS(Data!$H$2:$H$60,Data!$A$2:$A$60,"Export",Data!$F$2:$F$60,$A5) -> 39007441 | C5: =SUMIFS(Data!$J$2:$J$60,Data!$A$2:$A$60,"Export",Data!$F$2:$F$60,$A5) -> 44856617 | D5: =SUMIFS(Data!$K$2:$K$60,Data!$A$2:$A$60,"Export",Data!$F$2:$F$60,$A5) -> 40027226 | E5: =SUMIFS(Data!$L$2:$L$60,Data!$A$2:$A$60,"Export",Data!$F$2:$F$60,$A5) -> 1745460859 | F5: =IFERROR(C5/B5,"-") -> 1.1499503 | G5: =IFERROR(D5/B5,"-") -> 1.0261433 | H5: =IFERROR(E5/B5,"-") -> 44.746869
A6: Italy | B6: =SUMIFS(Data!$H$2:$H$60,Data!$A$2:$A$60,"Export",Data!$F$2:$F$60,$A6) -> 22227679 | C6: =SUMIFS(Data!$J$2:$J$60,Data!$A$2:$A$60,"Export",Data!$F$2:$F$60,$A6) -> 21777448 | D6: =SUMIFS(Data!$K$2:$K$60,Data!$A$2:$A$60,"Export",Data!$F$2:$F$60,$A6) -> 19310286 | E6: =SUMIFS(Data!$L$2:$L$60,Data!$A$2:$A$60,"Export",Data!$F$2:$F$60,$A6) -> 857223492 | F6: =IFERROR(C6/B6,"-") -> 0.97974458 | G6: =IFERROR(D6/B6,"-") -> 0.86874954 | H6: =IFERROR(E6/B6,"-") -> 38.565587
A7: Spain | B7: =SUMIFS(Data!$H$2:$H$60,Data!$A$2:$A$60,"Export",Data!$F$2:$F$60,$A7) -> 12263495 | C7: =SUMIFS(Data!$J$2:$J$60,Data!$A$2:$A$60,"Export",Data!$F$2:$F$60,$A7) -> 11894069 | D7: =SUMIFS(Data!$K$2:$K$60,Data!$A$2:$A$60,"Export",Data!$F$2:$F$60,$A7) -> 10553717 | E7: =SUMIFS(Data!$L$2:$L$60,Data!$A$2:$A$60,"Export",Data!$F$2:$F$60,$A7) -> 470749368 | F7: =IFERROR(C7/B7,"-") -> 0.96987596 | G7: =IFERROR(D7/B7,"-") -> 0.86057988 | H7: =IFERROR(E7/B7,"-") -> 38.386232
A8: Belgium | B8: =SUMIFS(Data!$H$2:$H$60,Data!$A$2:$A$60,"Export",Data!$F$2:$F$60,$A8) -> 5426999 | C8: =SUMIFS(Data!$J$2:$J$60,Data!$A$2:$A$60,"Export",Data!$F$2:$F$60,$A8) -> 6764774 | D8: =SUMIFS(Data!$K$2:$K$60,Data!$A$2:$A$60,"Export",Data!$F$2:$F$60,$A8) -> 6015731 | E8: =SUMIFS(Data!$L$2:$L$60,Data!$A$2:$A$60,"Export",Data!$F$2:$F$60,$A8) -> 265102271 | F8: =IFERROR(C8/B8,"-") -> 1.2465036 | G8: =IFERROR(D8/B8,"-") -> 1.1084821 | H8: =IFERROR(E8/B8,"-") -> 48.848778
A9: Romania | B9: =SUMIFS(Data!$H$2:$H$60,Data!$A$2:$A$60,"Export",Data!$F$2:$F$60,$A9) -> 6062892 | C9: =SUMIFS(Data!$J$2:$J$60,Data!$A$2:$A$60,"Export",Data!$F$2:$F$60,$A9) -> 6645777 | D9: =SUMIFS(Data!$K$2:$K$60,Data!$A$2:$A$60,"Export",Data!$F$2:$F$60,$A9) -> 5935978 | E9: =SUMIFS(Data!$L$2:$L$60,Data!$A$2:$A$60,"Export",Data!$F$2:$F$60,$A9) -> 258371965 | F9: =IFERROR(C9/B9,"-") -> 1.0961398 | G9: =IFERROR(D9/B9,"-") -> 0.97906709 | H9: =IFERROR(E9/B9,"-") -> 42.615301
A10: Switzerland | B10: =SUMIFS(Data!$H$2:$H$60,Data!$A$2:$A$60,"Export",Data!$F$2:$F$60,$A10) -> 3000914 | C10: =SUMIFS(Data!$J$2:$J$60,Data!$A$2:$A$60,"Export",Data!$F$2:$F$60,$A10) -> 3803037 | D10: =SUMIFS(Data!$K$2:$K$60,Data!$A$2:$A$60,"Export",Data!$F$2:$F$60,$A10) -> 3363678 | E10: =SUMIFS(Data!$L$2:$L$60,Data!$A$2:$A$60,"Export",Data!$F$2:$F$60,$A10) -> 148937205 | F10: =IFERROR(C10/B10,"-") -> 1.2672929 | G10: =IFERROR(D10/B10,"-") -> 1.1208845 | H10: =IFERROR(E10/B10,"-") -> 49.630614
A11: United Kingdom | B11: =SUMIFS(Data!$H$2:$H$60,Data!$A$2:$A$60,"Export",Data!$F$2:$F$60,$A11) -> 2986539 | C11: =SUMIFS(Data!$J$2:$J$60,Data!$A$2:$A$60,"Export",Data!$F$2:$F$60,$A11) -> 3584168 | D11: =SUMIFS(Data!$K$2:$K$60,Data!$A$2:$A$60,"Export",Data!$F$2:$F$60,$A11) -> 3101097 | E11: =SUMIFS(Data!$L$2:$L$60,Data!$A$2:$A$60,"Export",Data!$F$2:$F$60,$A11) -> 146351810 | F11: =IFERROR(C11/B11,"-") -> 1.2001075 | G11: =IFERROR(D11/B11,"-") -> 1.0383581 | H11: =IFERROR(E11/B11,"-") -> 49.003817
A12: France | B12: =SUMIFS(Data!$H$2:$H$60,Data!$A$2:$A$60,"Export",Data!$F$2:$F$60,$A12) -> 2459669 | C12: =SUMIFS(Data!$J$2:$J$60,Data!$A$2:$A$60,"Export",Data!$F$2:$F$60,$A12) -> 2885675 | D12: =SUMIFS(Data!$K$2:$K$60,Data!$A$2:$A$60,"Export",Data!$F$2:$F$60,$A12) -> 2559734 | E12: =SUMIFS(Data!$L$2:$L$60,Data!$A$2:$A$60,"Export",Data!$F$2:$F$60,$A12) -> 113862188 | F12: =IFERROR(C12/B12,"-") -> 1.1731965 | G12: =IFERROR(D12/B12,"-") -> 1.0406823 | H12: =IFERROR(E12/B12,"-") -> 46.291671
A13: Austria | B13: =SUMIFS(Data!$H$2:$H$60,Data!$A$2:$A$60,"Export",Data!$F$2:$F$60,$A13) -> 1197855 | C13: =SUMIFS(Data!$J$2:$J$60,Data!$A$2:$A$60,"Export",Data!$F$2:$F$60,$A13) -> 1510008 | D13: =SUMIFS(Data!$K$2:$K$60,Data!$A$2:$A$60,"Export",Data!$F$2:$F$60,$A13) -> 1343421 | E13: =SUMIFS(Data!$L$2:$L$60,Data!$A$2:$A$60,"Export",Data!$F$2:$F$60,$A13) -> 58711169 | F13: =IFERROR(C13/B13,"-") -> 1.2605933 | G13: =IFERROR(D13/B13,"-") -> 1.1215222 | H13: =IFERROR(E13/B13,"-") -> 49.013586
A14: Netherlands | B14: =SUMIFS(Data!$H$2:$H$60,Data!$A$2:$A$60,"Export",Data!$F$2:$F$60,$A14) -> 1318918 | C14: =SUMIFS(Data!$J$2:$J$60,Data!$A$2:$A$60,"Export",Data!$F$2:$F$60,$A14) -> 1470633 | D14: =SUMIFS(Data!$K$2:$K$60,Data!$A$2:$A$60,"Export",Data!$F$2:$F$60,$A14) -> 1297449 | E14: =SUMIFS(Data!$L$2:$L$60,Data!$A$2:$A$60,"Export",Data!$F$2:$F$60,$A14) -> 58700948 | F14: =IFERROR(C14/B14,"-") -> 1.1150299 | G14: =IFERROR(D14/B14,"-") -> 0.98372226 | H14: =IFERROR(E14/B14,"-") -> 44.506897
A15: Russia | B15: =SUMIFS(Data!$H$2:$H$60,Data!$A$2:$A$60,"Export",Data!$F$2:$F$60,$A15) -> 1024538 | C15: =SUMIFS(Data!$J$2:$J$60,Data!$A$2:$A$60,"Export",Data!$F$2:$F$60,$A15) -> 1296146 | D15: =SUMIFS(Data!$K$2:$K$60,Data!$A$2:$A$60,"Export",Data!$F$2:$F$60,$A15) -> 1139375 | E15: =SUMIFS(Data!$L$2:$L$60,Data!$A$2:$A$60,"Export",Data!$F$2:$F$60,$A15) -> 50620536 | F15: =IFERROR(C15/B15,"-") -> 1.2651029 | G15: =IFERROR(D15/B15,"-") -> 1.1120866 | H15: =IFERROR(E15/B15,"-") -> 49.408159
A16: Latvia | B16: =SUMIFS(Data!$H$2:$H$60,Data!$A$2:$A$60,"Export",Data!$F$2:$F$60,$A16) -> 910044 | C16: =SUMIFS(Data!$J$2:$J$60,Data!$A$2:$A$60,"Export",Data!$F$2:$F$60,$A16) -> 1094265 | D16: =SUMIFS(Data!$K$2:$K$60,Data!$A$2:$A$60,"Export",Data!$F$2:$F$60,$A16) -> 954339 | E16: =SUMIFS(Data!$L$2:$L$60,Data!$A$2:$A$60,"Export",Data!$F$2:$F$60,$A16) -> 42903299 | F16: =IFERROR(C16/B16,"-") -> 1.2024309 | G16: =IFERROR(D16/B16,"-") -> 1.0486735 | H16: =IFERROR(E16/B16,"-") -> 47.144203
... A63: Singapore | B63: =SUMIFS(Data!$H$2:$H$60,Data!$A$2:$A$60,"Export",Data!$F$2:$F$60,$A63) -> 2 | C63: =SUMIFS(Data!$J$2:$J$60,Data!$A$2:$A$60,"Export",Data!$F$2:$F$60,$A63) -> 1 | D63: =SUMIFS(Data!$K$2:$K$60,Data!$A$2:$A$60,"Export",Data!$F$2:$F$60,$A63) -> 1 | E63: =SUMIFS(Data!$L$2:$L$60,Data!$A$2:$A$60,"Export",Data!$F$2:$F$60,$A63) -> 48 | F63: =IFERROR(C63/B63,"-") -> 0.5 | G63: =IFERROR(D63/B63,"-") -> 0.5 | H63: =IFERROR(E63/B63,"-") -> 24
A64: TOTAL | B64: =SUM(B5:B63) -> 104816088 | C64: =SUM(C5:C63) -> 114496441 | D64: =SUM(D5:D63) -> 101741115 | E64: =SUM(E5:E63) -> 4489737329 | F64: =IFERROR(C64/B64,"-") -> 1.0923556 | G64: =IFERROR(D64/B64,"-") -> 0.97066316 | H64: =IFERROR(E64/B64,"-") -> 42.834429

Sheet Top 10
A1: Top 10 Trading Partners
A2: Ranked by value (USD) | 2025-2025
A4: Top 10 Export Destinations
A5: Rank | B5: Country | C5: USD | D5: % of Total
A6: 1 | B6: Germany | C6: 44856617 | D6: 0.42642529
A7: 2 | B7: Italy | C7: 21777448 | D7: 0.2070253
A8: 3 | B8: Spain | C8: 11894069 | D8: 0.11306987
A9: 4 | B9: Belgium | C9: 6764774 | D9: 0.0643087
A10: 5 | B10: Romania | C10: 6645777 | D10: 0.063177466
A11: 6 | B11: Switzerland | C11: 3803037 | D11: 0.03615322
A12: 7 | B12: United Kingdom | C12: 3584168 | D12: 0.034072562
A13: 8 | B13: France | C13: 2885675 | D13: 0.027432403
A14: 9 | B14: Austria | C14: 1510008 | D14: 0.014354752
A15: 10 | B15: Netherlands | C15: 1470633 | D15: 0.013980437

Sheet Top 10 by Volume
A1: Top 10 Trading Partners by Volume
A2: Ranked by quantity (KG) | 2025-2025
A4: Top 10 Export Destinations by Volume
A5: Rank | B5: Country | C5: Qty (KG) | D5: % of Total
A6: 1 | B6: Germany | C6: 39007441 | D6: 0.40652908
A7: 2 | B7: Italy | C7: 22227679 | D7: 0.23165318
A8: 3 | B8: Spain | C8: 12263495 | D8: 0.12780811
A9: 4 | B9: Romania | C9: 6062892 | D9: 0.063186454
A10: 5 | B10: Belgium | C10: 5426999 | D10: 0.056559283
A11: 6 | B11: Switzerland | C11: 3000914 | D11: 0.031275028
A12: 7 | B12: United Kingdom | C12: 2986539 | D12: 0.031125214
A13: 8 | B13: France | C13: 2459669 | D13: 0.025634262
A14: 9 | B14: Netherlands | C14: 1318918 | D14: 0.013745545
A15: 10 | B15: Austria | C15: 1197855 | D15: 0.012483846

Sheet Year-over-Year
A1: Year-over-Year Trend
A2: Annual totals by direction (Month-over-Month will replace this once monthly source data is available)
A4: Year | B4: Export USD | C4: YoY Change (%)
A5: 2025 | B5: =SUMIFS(Data!$J$2:$J$60,Data!$A$2:$A$60,"Export",Data!$B$2:$B$60,$A5) -> 114496441 | C5: -
A7: Only one year in range — add more years for a trend view.
